BEGIN:VCALENDAR
VERSION:2.0
PRODID:-//Aloys-Schreiber-Gemeinschaftsschule Bühl - ECPv6.15.20//NONSGML v1.0//EN
CALSCALE:GREGORIAN
METHOD:PUBLISH
X-ORIGINAL-URL:https://www.aloysschreiberschule.de
X-WR-CALDESC:Veranstaltungen für Aloys-Schreiber-Gemeinschaftsschule Bühl
REFRESH-INTERVAL;VALUE=DURATION:PT1H
X-Robots-Tag:noindex
X-PUBLISHED-TTL:PT1H
BEGIN:VTIMEZONE
TZID:Europe/Berlin
BEGIN:DAYLIGHT
TZOFFSETFROM:+0100
TZOFFSETTO:+0200
TZNAME:CEST
DTSTART:20240331T010000
END:DAYLIGHT
BEGIN:STANDARD
TZOFFSETFROM:+0200
TZOFFSETTO:+0100
TZNAME:CET
DTSTART:20241027T010000
END:STANDARD
BEGIN:DAYLIGHT
TZOFFSETFROM:+0100
TZOFFSETTO:+0200
TZNAME:CEST
DTSTART:20250330T010000
END:DAYLIGHT
BEGIN:STANDARD
TZOFFSETFROM:+0200
TZOFFSETTO:+0100
TZNAME:CET
DTSTART:20251026T010000
END:STANDARD
BEGIN:DAYLIGHT
TZOFFSETFROM:+0100
TZOFFSETTO:+0200
TZNAME:CEST
DTSTART:20260329T010000
END:DAYLIGHT
BEGIN:STANDARD
TZOFFSETFROM:+0200
TZOFFSETTO:+0100
TZNAME:CET
DTSTART:20261025T010000
END:STANDARD
BEGIN:DAYLIGHT
TZOFFSETFROM:+0100
TZOFFSETTO:+0200
TZNAME:CEST
DTSTART:20270328T010000
END:DAYLIGHT
BEGIN:STANDARD
TZOFFSETFROM:+0200
TZOFFSETTO:+0100
TZNAME:CET
DTSTART:20271031T010000
END:STANDARD
END:VTIMEZONE
BEGIN:VEVENT
DTSTART;TZID=Europe/Berlin:20260228T100000
DTEND;TZID=Europe/Berlin:20260228T140000
DTSTAMP:20260420T075137
CREATED:20251105T134826Z
LAST-MODIFIED:20251105T134826Z
UID:9924-1772272800-1772287200@www.aloysschreiberschule.de
SUMMARY:Tag der offenen Tür Gemeinschaftsschule
DESCRIPTION:An diesem Samstag öffnen die Grundschule und die Gemeinschaftsschule ihre Türen für alle interessierten Gäste.Wir präsentieren die vielfältigen Ergebnisse unserer Projektwoche\, bieten spannende Aufführungen und laden zu Mitmachaktionen ein\, die einen lebendigen Einblick in unseren Schulalltag geben. Um 12.00 Uhr findet außerdem ein Informationsvortrag zum Lernen und Arbeiten an der Gemeinschaftsschule statt.Wir freuen uns auf viele neugierige Besucherinnen und Besucher!
URL:https://www.aloysschreiberschule.de/event/tag-der-offenen-tuer-gemeinschaftsschule/
CATEGORIES:Alle
END:VEVENT
BEGIN:VEVENT
DTSTART;TZID=Europe/Berlin:20260223T080000
DTEND;TZID=Europe/Berlin:20260227T170000
DTSTAMP:20260420T075137
CREATED:20251105T135427Z
LAST-MODIFIED:20251105T140127Z
UID:9930-1771833600-1772211600@www.aloysschreiberschule.de
SUMMARY:Projektwoche für alle Schüler*innen der ASG
DESCRIPTION:In dieser Woche finden für Klasse 1 bis Lerngruppe 10 Projekte statt. Wir freuen uns auf eine kreative und produktive Woche!
URL:https://www.aloysschreiberschule.de/event/projektwoche-fuer-alle-schueler-der-asg/
CATEGORIES:Alle
END:VEVENT
BEGIN:VEVENT
DTSTART;TZID=Europe/Berlin:20260128T190000
DTEND;TZID=Europe/Berlin:20260128T203000
DTSTAMP:20260420T075137
CREATED:20251105T134307Z
LAST-MODIFIED:20251105T134307Z
UID:9922-1769626800-1769632200@www.aloysschreiberschule.de
SUMMARY:Infoabend Gemeinschaftsschule
DESCRIPTION:Informationsabend zur Gemeinschaftsschule für Eltern künftiger Fünftklässler bei uns in der Aloys- Schreiber- Gemeinschaftsschule
URL:https://www.aloysschreiberschule.de/event/infoabend-gemeinschaftsschule/
CATEGORIES:Grundschule,Sekundarstufe
END:VEVENT
BEGIN:VEVENT
DTSTART;TZID=Europe/Berlin:20251219T100000
DTEND;TZID=Europe/Berlin:20251219T110000
DTSTAMP:20260420T075137
CREATED:20251003T195856Z
LAST-MODIFIED:20251003T200423Z
UID:9754-1766138400-1766142000@www.aloysschreiberschule.de
SUMMARY:Weihnachtsgottesdienst
DESCRIPTION:
URL:https://www.aloysschreiberschule.de/event/elternabende-der-sekundarstufe/
CATEGORIES:Alle
END:VEVENT
BEGIN:VEVENT
DTSTART;TZID=Europe/Berlin:20251202T080000
DTEND;TZID=Europe/Berlin:20251217T170000
DTSTAMP:20260420T075137
CREATED:20251105T135217Z
LAST-MODIFIED:20251105T135217Z
UID:9928-1764662400-1765990800@www.aloysschreiberschule.de
SUMMARY:Anmeldezeitraum für Schulanfänger 2026 ( Klasse 1)
DESCRIPTION:In diesem Zeitraum finden die Anmeldetermine für alle Schulanfänger 2026 unseres Schulbezirkes statt.\nSie vereinbaren hierfür einen persönlichen Termin mit uns und Ihrem Kind.
URL:https://www.aloysschreiberschule.de/event/anmeldezeitraum-fuer-schulanfaenger-2026-klasse-1/
CATEGORIES:Grundschule
END:VEVENT
BEGIN:VEVENT
DTSTART;TZID=Europe/Berlin:20251128T073000
DTEND;TZID=Europe/Berlin:20251128T120000
DTSTAMP:20260420T075137
CREATED:20251124T203709Z
LAST-MODIFIED:20251124T203921Z
UID:10034-1764315000-1764331200@www.aloysschreiberschule.de
SUMMARY:Pädagogischer Tag (schulfrei nur für die Sekundarstufe)
DESCRIPTION:Unsere Lehrkräfte arbeiten heute zum Thema „Coaching an der Gemeinschaftsschule“. Daher haben alle Schüler*innen der Gemeinschaftsschule heute keinen Unterricht.\nAlle Grundschulklassen haben wie gewohnt Unterricht; die Grundschullehrkräfte wirken am pädagogischen Tag am Nachmittag mit.
URL:https://www.aloysschreiberschule.de/event/paedagogischer-tag-schulfrei-nur-fuer-die-sekundarstufe/
CATEGORIES:Sekundarstufe
END:VEVENT
BEGIN:VEVENT
DTSTART;TZID=Europe/Berlin:20251121T110000
DTEND;TZID=Europe/Berlin:20251121T130000
DTSTAMP:20260420T075137
CREATED:20251019T204055Z
LAST-MODIFIED:20251019T204343Z
UID:9863-1763722800-1763730000@www.aloysschreiberschule.de
SUMMARY:"Guckloch" der Grundschule
DESCRIPTION:Wir öffnen die Türen für Eltern\, für unsere neuen Erstklässler 2026 und für alle interessierten Familien von 11 bis 13 Uhr.\nEs erwarten euch Ausstellungen\, Aufführungen und Mitmachaktionen.
URL:https://www.aloysschreiberschule.de/event/guckloch-der-grundschule/
CATEGORIES:Grundschule
END:VEVENT
BEGIN:VEVENT
DTSTART;TZID=Europe/Berlin:20251121T090000
DTEND;TZID=Europe/Berlin:20251121T120000
DTSTAMP:20260420T075137
CREATED:20251003T200909Z
LAST-MODIFIED:20251003T200909Z
UID:9769-1763715600-1763726400@www.aloysschreiberschule.de
SUMMARY:Vorlesetag Klasse 4 und Sekundarstufe
DESCRIPTION:
URL:https://www.aloysschreiberschule.de/event/vorlesetag-klasse-4-und-sekundarstufe/
CATEGORIES:Alle
END:VEVENT
BEGIN:VEVENT
DTSTART;TZID=Europe/Berlin:20251120T080000
DTEND;TZID=Europe/Berlin:20251120T090000
DTSTAMP:20260420T075137
CREATED:20251003T200806Z
LAST-MODIFIED:20251003T200806Z
UID:9767-1763625600-1763629200@www.aloysschreiberschule.de
SUMMARY:Kompass 4 Mathe
DESCRIPTION:
URL:https://www.aloysschreiberschule.de/event/kompass-4-mathe/
CATEGORIES:Grundschule
END:VEVENT
BEGIN:VEVENT
DTSTART;TZID=Europe/Berlin:20251119T080000
DTEND;TZID=Europe/Berlin:20251119T090000
DTSTAMP:20260420T075137
CREATED:20251003T200725Z
LAST-MODIFIED:20251003T200725Z
UID:9765-1763539200-1763542800@www.aloysschreiberschule.de
SUMMARY:Kompass 4 Deutsch
DESCRIPTION:
URL:https://www.aloysschreiberschule.de/event/kompass-4-deutsch/
CATEGORIES:Grundschule
END:VEVENT
BEGIN:VEVENT
DTSTART;TZID=Europe/Berlin:20251110T190000
DTEND;TZID=Europe/Berlin:20251110T203000
DTSTAMP:20260420T075137
CREATED:20251105T134951Z
LAST-MODIFIED:20251105T134951Z
UID:9926-1762801200-1762806600@www.aloysschreiberschule.de
SUMMARY:Informationsabend ALLER weiterführenden Schulen in Bühl
DESCRIPTION:Im Bürgerhaus stellen sich die weiterführenden Schule der Umgebung vor. Zielgruppe: Viertklasseltern
URL:https://www.aloysschreiberschule.de/event/informationsabend-aller-weiterfuehrenden-schulen-in-buehl/
CATEGORIES:Grundschule
END:VEVENT
BEGIN:VEVENT
DTSTART;TZID=Europe/Berlin:20251103T180000
DTEND;TZID=Europe/Berlin:20251103T200000
DTSTAMP:20260420T075137
CREATED:20251003T195222Z
LAST-MODIFIED:20251007T124444Z
UID:9746-1762192800-1762200000@www.aloysschreiberschule.de
SUMMARY:Elternbeiratssitzung und Schulkonferenz
DESCRIPTION:
URL:https://www.aloysschreiberschule.de/event/fredericktag-der-grundschule/
CATEGORIES:Alle
END:VEVENT
BEGIN:VEVENT
DTSTART;TZID=Europe/Berlin:20251103T080000
DTEND;TZID=Europe/Berlin:20251219T170000
DTSTAMP:20260420T075137
CREATED:20251004T070221Z
LAST-MODIFIED:20251004T070628Z
UID:9779-1762156800-1766163600@www.aloysschreiberschule.de
SUMMARY:Zeitraum Entwicklungsgespräche (mit Eltern/Schüler*in)
DESCRIPTION:Im Laufe des Novembers und Dezembers finden unsere Entwicklungsgespräche statt.
URL:https://www.aloysschreiberschule.de/event/zeitraum-entwicklungsgespraeche-mit-eltern-schuelerin/
CATEGORIES:Alle
END:VEVENT
BEGIN:VEVENT
DTSTART;TZID=Europe/Berlin:20251023T080000
DTEND;TZID=Europe/Berlin:20251023T090000
DTSTAMP:20260420T075137
CREATED:20251004T065003Z
LAST-MODIFIED:20251004T065003Z
UID:9771-1761206400-1761210000@www.aloysschreiberschule.de
SUMMARY:Schülersprecherwahl
DESCRIPTION:
URL:https://www.aloysschreiberschule.de/event/schuelersprecherwahl/
CATEGORIES:Sekundarstufe
END:VEVENT
BEGIN:VEVENT
DTSTART;TZID=Europe/Berlin:20251021T180000
DTEND;TZID=Europe/Berlin:20251021T200000
DTSTAMP:20260420T075137
CREATED:20251003T200540Z
LAST-MODIFIED:20251004T065724Z
UID:9761-1761069600-1761076800@www.aloysschreiberschule.de
SUMMARY:Elternabende der Sekundarstufe
DESCRIPTION:5a/b/c  um 18:00 Uhr\, 6a/b/c um 18:00 Uhr\, 7a/b um 18:30 Uhr\, 8a/b um 18:30 Uhr \nGemeinsam in der Aula: 9a/b und 10 a/b um 19:00 Uhr für die Prüflinge (dann anschließend eigener Elternabend)
URL:https://www.aloysschreiberschule.de/event/elternabende-der-sekundarstufe-2/
CATEGORIES:Sekundarstufe
END:VEVENT
BEGIN:VEVENT
DTSTART;TZID=Europe/Berlin:20251017T100000
DTEND;TZID=Europe/Berlin:20251017T120000
DTSTAMP:20260420T075137
CREATED:20251003T195702Z
LAST-MODIFIED:20251004T065508Z
UID:9751-1760695200-1760702400@www.aloysschreiberschule.de
SUMMARY:Fredericktag und Bücherkofferübergabe
DESCRIPTION:Fredericktag zur Leseförderung für alle Grundschulklassen\, in Klasse 1 findet eine feierliche Übergabe unserer 6 mehrsprachigen Bücherkoffer statt.
URL:https://www.aloysschreiberschule.de/event/smv-podium-2/
CATEGORIES:Grundschule
END:VEVENT
BEGIN:VEVENT
DTSTART;TZID=Europe/Berlin:20251015T180000
DTEND;TZID=Europe/Berlin:20251015T210000
DTSTAMP:20260420T075137
CREATED:20251003T192758Z
LAST-MODIFIED:20251004T065354Z
UID:9743-1760551200-1760562000@www.aloysschreiberschule.de
SUMMARY:Elternabende der Grundschule
DESCRIPTION:Startzeiten: 1 a\,b\,c  um  18.00 Uhr  /  2 a\,b um  18.00 Uhr / 3 a\,b um  19.00 Uhr / 4 a\,b um  19.30 Uhr
URL:https://www.aloysschreiberschule.de/event/smv-podium/
CATEGORIES:Grundschule
END:VEVENT
BEGIN:VEVENT
DTSTART;TZID=Europe/Berlin:20251015T093000
DTEND;TZID=Europe/Berlin:20251015T110000
DTSTAMP:20260420T075137
CREATED:20251003T200646Z
LAST-MODIFIED:20251003T200646Z
UID:9763-1760520600-1760526000@www.aloysschreiberschule.de
SUMMARY:SMV Podium
DESCRIPTION:
URL:https://www.aloysschreiberschule.de/event/smv-podium-3/
CATEGORIES:Sekundarstufe
END:VEVENT
BEGIN:VEVENT
DTSTART;TZID=Europe/Berlin:20251013T000000
DTEND;TZID=Europe/Berlin:20251013T000000
DTSTAMP:20260420T075137
CREATED:20251003T080027Z
LAST-MODIFIED:20251003T193413Z
UID:9725-1760313600-1760313600@www.aloysschreiberschule.de
SUMMARY:Schulbustraining 5
DESCRIPTION:
URL:https://www.aloysschreiberschule.de/event/schulbustraining-5/
CATEGORIES:Sekundarstufe
END:VEVENT
END:VCALENDAR